BEGIN:VCALENDAR
VERSION:2.0
PRODID:-//Centre for Family Business - ECPv6.15.11//NONSGML v1.0//EN
CALSCALE:GREGORIAN
METHOD:PUBLISH
X-WR-CALNAME:Centre for Family Business
X-ORIGINAL-URL:https://cffb.ca
X-WR-CALDESC:Events for Centre for Family Business
REFRESH-INTERVAL;VALUE=DURATION:PT1H
X-Robots-Tag:noindex
X-PUBLISHED-TTL:PT1H
BEGIN:VTIMEZONE
TZID:America/Toronto
BEGIN:DAYLIGHT
TZOFFSETFROM:-0500
TZOFFSETTO:-0400
TZNAME:EDT
DTSTART:20230312T070000
END:DAYLIGHT
BEGIN:STANDARD
TZOFFSETFROM:-0400
TZOFFSETTO:-0500
TZNAME:EST
DTSTART:20231105T060000
END:STANDARD
BEGIN:DAYLIGHT
TZOFFSETFROM:-0500
TZOFFSETTO:-0400
TZNAME:EDT
DTSTART:20240310T070000
END:DAYLIGHT
BEGIN:STANDARD
TZOFFSETFROM:-0400
TZOFFSETTO:-0500
TZNAME:EST
DTSTART:20241103T060000
END:STANDARD
BEGIN:DAYLIGHT
TZOFFSETFROM:-0500
TZOFFSETTO:-0400
TZNAME:EDT
DTSTART:20250309T070000
END:DAYLIGHT
BEGIN:STANDARD
TZOFFSETFROM:-0400
TZOFFSETTO:-0500
TZNAME:EST
DTSTART:20251102T060000
END:STANDARD
END:VTIMEZONE
BEGIN:VEVENT
DTSTART;TZID=America/Toronto:20241113T180000
DTEND;TZID=America/Toronto:20241113T200000
DTSTAMP:20260421T081614
CREATED:20241015T185617Z
LAST-MODIFIED:20241015T185758Z
UID:4798-1731520800-1731528000@cffb.ca
SUMMARY:Member Tour: Systems Plus
DESCRIPTION:Systems Plus supplies clients across Canada and beyond. Celebrating its 40th anniversary\, the company is an industry-leading manufacturer and supplier of sampling and testing equipment in North America\, \nJoin us for a peek behind the curtain.
URL:https://cffb.ca/event/member-tour-systems-plus/
LOCATION:Systems Plus\, 1457 Gingerich Road\,\, Baden\, On
ORGANIZER;CN="Brian Bourke":MAILTO:brianb@cffb.ca
END:VEVENT
BEGIN:VEVENT
DTSTART;TZID=America/Toronto:20241129T073000
DTEND;TZID=America/Toronto:20241129T100000
DTSTAMP:20260421T081614
CREATED:20240205T184042Z
LAST-MODIFIED:20241015T191016Z
UID:4524-1732865400-1732874400@cffb.ca
SUMMARY:Reputational Risk: Why You? And Why Now?
DESCRIPTION:In collaboration with the Institute of Corporate Directors \nIn today’s digital age\, where information spreads rapidly through social media and online platforms\, businesses must actively manage their reputations by fostering transparency\, engaging with customers\, and responding swiftly to crises. \nColin MacDonald- Navigator Ltd \nColin MacDonald is a trusted executive advisor\, specializing in issue management\, strategy development and campaign execution \n.Colin’s work nationally is frequently in support of clients across a wide variety of sectors as they confront enterprise threats or seek to shape public opinion.
URL:https://cffb.ca/event/monthly-meeting-with-speaker-2/
LOCATION:Westmount Golf And Country Club\, 50 Inverness Drive\, Kitchener\, Ontario
END:VEVENT
END:VCALENDAR