BEGIN:VCALENDAR
VERSION:2.0
PRODID:-//Centre for Family Business - ECPv6.15.11//NONSGML v1.0//EN
CALSCALE:GREGORIAN
METHOD:PUBLISH
X-WR-CALNAME:Centre for Family Business
X-ORIGINAL-URL:https://cffb.ca
X-WR-CALDESC:Events for Centre for Family Business
REFRESH-INTERVAL;VALUE=DURATION:PT1H
X-Robots-Tag:noindex
X-PUBLISHED-TTL:PT1H
BEGIN:VTIMEZONE
TZID:America/Toronto
BEGIN:DAYLIGHT
TZOFFSETFROM:-0500
TZOFFSETTO:-0400
TZNAME:EDT
DTSTART:20230312T070000
END:DAYLIGHT
BEGIN:STANDARD
TZOFFSETFROM:-0400
TZOFFSETTO:-0500
TZNAME:EST
DTSTART:20231105T060000
END:STANDARD
BEGIN:DAYLIGHT
TZOFFSETFROM:-0500
TZOFFSETTO:-0400
TZNAME:EDT
DTSTART:20240310T070000
END:DAYLIGHT
BEGIN:STANDARD
TZOFFSETFROM:-0400
TZOFFSETTO:-0500
TZNAME:EST
DTSTART:20241103T060000
END:STANDARD
BEGIN:DAYLIGHT
TZOFFSETFROM:-0500
TZOFFSETTO:-0400
TZNAME:EDT
DTSTART:20250309T070000
END:DAYLIGHT
BEGIN:STANDARD
TZOFFSETFROM:-0400
TZOFFSETTO:-0500
TZNAME:EST
DTSTART:20251102T060000
END:STANDARD
END:VTIMEZONE
BEGIN:VEVENT
DTSTART;TZID=America/Toronto:20240418T130000
DTEND;TZID=America/Toronto:20240418T150000
DTSTAMP:20260421T210849
CREATED:20240206T154229Z
LAST-MODIFIED:20240206T154229Z
UID:4556-1713445200-1713452400@cffb.ca
SUMMARY:Mini Market- Big impact How is the labour market doing ?
DESCRIPTION:Hiring and retaining talent is one of the biggest issues facing all members of the Centre for Family Business. \nEvery two years\, the Workforce Planning Board surveys hundreds of businesses across all sectors of the market to gather insights. \nCharlene Hofbauer\, Executive Director of the WPB will bring an exclusive first look at the trends—both celebratory\, and disconcerting—to our members. \nReserve your spot at the link below.
URL:https://cffb.ca/event/mini-market-big-impact-how-is-the-labour-market-doing/
LOCATION:Doubletree by Hilton\, 30 Fairway Road South\, Kitchener\, ON\, Canada
END:VEVENT
BEGIN:VEVENT
DTSTART;TZID=America/Toronto:20240426T073000
DTEND;TZID=America/Toronto:20240426T100000
DTSTAMP:20260421T210849
CREATED:20240307T202707Z
LAST-MODIFIED:20240307T202707Z
UID:4628-1714116600-1714125600@cffb.ca
SUMMARY:We’re getting the band back together!
DESCRIPTION:
URL:https://cffb.ca/event/were-getting-the-band-back-together/
END:VEVENT
END:VCALENDAR