BEGIN:VCALENDAR
VERSION:2.0
PRODID:-//Centre for Family Business - ECPv6.15.11//NONSGML v1.0//EN
CALSCALE:GREGORIAN
METHOD:PUBLISH
X-WR-CALNAME:Centre for Family Business
X-ORIGINAL-URL:https://cffb.ca
X-WR-CALDESC:Events for Centre for Family Business
REFRESH-INTERVAL;VALUE=DURATION:PT1H
X-Robots-Tag:noindex
X-PUBLISHED-TTL:PT1H
BEGIN:VTIMEZONE
TZID:America/Toronto
BEGIN:DAYLIGHT
TZOFFSETFROM:-0500
TZOFFSETTO:-0400
TZNAME:EDT
DTSTART:20230312T070000
END:DAYLIGHT
BEGIN:STANDARD
TZOFFSETFROM:-0400
TZOFFSETTO:-0500
TZNAME:EST
DTSTART:20231105T060000
END:STANDARD
BEGIN:DAYLIGHT
TZOFFSETFROM:-0500
TZOFFSETTO:-0400
TZNAME:EDT
DTSTART:20240310T070000
END:DAYLIGHT
BEGIN:STANDARD
TZOFFSETFROM:-0400
TZOFFSETTO:-0500
TZNAME:EST
DTSTART:20241103T060000
END:STANDARD
BEGIN:DAYLIGHT
TZOFFSETFROM:-0500
TZOFFSETTO:-0400
TZNAME:EDT
DTSTART:20250309T070000
END:DAYLIGHT
BEGIN:STANDARD
TZOFFSETFROM:-0400
TZOFFSETTO:-0500
TZNAME:EST
DTSTART:20251102T060000
END:STANDARD
END:VTIMEZONE
BEGIN:VEVENT
DTSTART;TZID=America/Toronto:20240322T073000
DTEND;TZID=America/Toronto:20240322T100000
DTSTAMP:20260421T230230
CREATED:20240206T153833Z
LAST-MODIFIED:20240206T155756Z
UID:4553-1711092600-1711101600@cffb.ca
SUMMARY:Bring your future to work!
DESCRIPTION:What’s the agenda\, Brenda? \nWhat’s the plan\, Stan? \nYou’ve spent years building your business.  It began as a passion\, and now you’re looking toward the future \nWill one of you children carry on the legacy?   Perhaps a niece or nephew or cousin. \nYou’re invited to bring your future to our March event. \nSpecial guests still to be announced!
URL:https://cffb.ca/event/bring-your-future-to-work/
LOCATION:Bingemans\, Ballroom “A”\, 425 Bingemans Centre Drive\, Kitchener\, ON\, Canada
END:VEVENT
END:VCALENDAR