BEGIN:VCALENDAR
VERSION:2.0
PRODID:-//Centre for Family Business - ECPv6.15.11//NONSGML v1.0//EN
CALSCALE:GREGORIAN
METHOD:PUBLISH
X-WR-CALNAME:Centre for Family Business
X-ORIGINAL-URL:https://cffb.ca
X-WR-CALDESC:Events for Centre for Family Business
REFRESH-INTERVAL;VALUE=DURATION:PT1H
X-Robots-Tag:noindex
X-PUBLISHED-TTL:PT1H
BEGIN:VTIMEZONE
TZID:America/Toronto
BEGIN:DAYLIGHT
TZOFFSETFROM:-0500
TZOFFSETTO:-0400
TZNAME:EDT
DTSTART:20230312T070000
END:DAYLIGHT
BEGIN:STANDARD
TZOFFSETFROM:-0400
TZOFFSETTO:-0500
TZNAME:EST
DTSTART:20231105T060000
END:STANDARD
BEGIN:DAYLIGHT
TZOFFSETFROM:-0500
TZOFFSETTO:-0400
TZNAME:EDT
DTSTART:20240310T070000
END:DAYLIGHT
BEGIN:STANDARD
TZOFFSETFROM:-0400
TZOFFSETTO:-0500
TZNAME:EST
DTSTART:20241103T060000
END:STANDARD
BEGIN:DAYLIGHT
TZOFFSETFROM:-0500
TZOFFSETTO:-0400
TZNAME:EDT
DTSTART:20250309T070000
END:DAYLIGHT
BEGIN:STANDARD
TZOFFSETFROM:-0400
TZOFFSETTO:-0500
TZNAME:EST
DTSTART:20251102T060000
END:STANDARD
END:VTIMEZONE
BEGIN:VEVENT
DTSTART;TZID=America/Toronto:20241025T073000
DTEND;TZID=America/Toronto:20241025T100000
DTSTAMP:20260421T115336
CREATED:20240205T183759Z
LAST-MODIFIED:20240708T161503Z
UID:4520-1729841400-1729850400@cffb.ca
SUMMARY:Trick or Treat? AI for your Business
DESCRIPTION:Artificial Intelligence is all around us\, and expanding at a rapid pace. \nIt’s not just an issue for the biggest operators. \nTruth is\, AI\, like so many other things provides both opportunities and pitfalls. \nJoin us as CTV Technology Analyst Carmi Levy gives us the lowdown on how this technology can help you\, and the concerns you need to have.
URL:https://cffb.ca/event/monthly-meeting-with-speaker/
LOCATION:Hampton Inn – Berlin Room\, 55 Benjamin road\, Waterloo\, Ontario\, Canada
ORGANIZER;CN="Brian Bourke":MAILTO:brianb@cffb.ca
END:VEVENT
END:VCALENDAR